BEGIN:VCALENDAR
VERSION:2.0
PRODID:-//wp-events-plugin.com//7.2.3.1//EN
TZID:Europe/Prague
X-WR-TIMEZONE:Europe/Prague
BEGIN:VEVENT
UID:62@ponava.cafe
DTSTART;TZID=Europe/Prague:20180111T190000
DTEND;TZID=Europe/Prague:20180111T190000
DTSTAMP:20171214T215443Z
URL:https://ponava.cafe/udalosti/jan-kavka-trio/
SUMMARY:Jan Kavka trio
DESCRIPTION:Jan Kavka Trio je klasické jazzové klavírní trio. Repertoá
 r tria se skládá z původních kompozic\, jazzových standardů a cover 
 verzí popových písniček.\n\nJan Kavka - piano\, Marek Dufek - baskytar
 a\, kontrabas\, Adam Sikora - bicí\n\n
ATTACH;FMTTYPE=image/jpeg:https://ponava.cafe/wp-content/uploads/2017/06/t
 apeta.jpg
CATEGORIES:Koncert
END:VEVENT
BEGIN:VTIMEZONE
TZID:Europe/Prague
X-LIC-LOCATION:Europe/Prague
BEGIN:STANDARD
DTSTART:20171029T020000
TZOFFSETFROM:+0200
TZOFFSETTO:+0100
TZNAME:CET
END:STANDARD
END:VTIMEZONE
END:VCALENDAR