BEGIN:VCALENDAR
VERSION:2.0
PRODID:-//wp-events-plugin.com//7.2.3.1//EN
TZID:Europe/Prague
X-WR-TIMEZONE:Europe/Prague
BEGIN:VEVENT
UID:263@ponava.cafe
DTSTART;TZID=Europe/Prague:20190612T190000
DTEND;TZID=Europe/Prague:20190612T190000
DTSTAMP:20190528T131115Z
URL:https://ponava.cafe/udalosti/jakub-zidek-quartet/
SUMMARY:Jakub Žídek Quartet
DESCRIPTION:JŽQ je jazzový kvartet složený ze studentů Janáčkovy aka
 demie múzických umění v Brně. Většinu repertoáru tvoří autorské
  skladby všech členů\, ve kterých se střídají prokomponované čás
 ti s improvizovanými. Zbytek doplňují aranžmá proslulých jazzových 
 standardů. Hlavní zaměření ansámblu spočívá v hledání nových z
 vukových možností a originální interpretaci tradičnější jazzové 
 hudby.Quartet hraje v složení:\n\nJakub Žídek - pozoun\nPetr Chadim - 
 tenor saxofon\nMartin Gerla - kontrabas\nPetr Maceček - bicí\n\nVstupné
  dobrovolné\, zážitky k nezaplacení. :)
ATTACH;FMTTYPE=image/jpeg:https://ponava.cafe/wp-content/uploads/2017/06/t
 apeta.jpg
CATEGORIES:Koncert
END:VEVENT
BEGIN:VTIMEZONE
TZID:Europe/Prague
X-LIC-LOCATION:Europe/Prague
BEGIN:DAYLIGHT
DTSTART:20190331T030000
TZOFFSETFROM:+0100
TZOFFSETTO:+0200
TZNAME:CEST
END:DAYLIGHT
END:VTIMEZONE
END:VCALENDAR