BEGIN:VCALENDAR
VERSION:2.0
PRODID:-//wp-events-plugin.com//7.2.3.1//EN
TZID:Europe/Prague
X-WR-TIMEZONE:Europe/Prague
BEGIN:VEVENT
UID:437@ponava.cafe
DTSTART;TZID=Europe/Prague:20210709T200000
DTEND;TZID=Europe/Prague:20210709T220000
DTSTAMP:20210619T115951Z
URL:https://ponava.cafe/udalosti/jakub-noha-band-2/
SUMMARY:Jakub Noha Band
DESCRIPTION:Legenda českého písničkářství se svou skvělou kapelou\,
  jen tentokrát bez bicích.\n\n...Kdybych měl teď nějak charakterizova
 t náš styl\, tak bych asi nesměle řekl\, že se pohybujem někde na ro
 zhraní folku\, blues a rocku a možná i něčeho tvrdšího. Od té doby
 \, co je u nás Bubák\, dostává to občas takový trochu jako Hendrixov
 ský charakter. Já sám mám rád syrovější\, razantní zvuk kapely a 
 nějaké stylové škatulkování mi moc nesedí. Považuju styly spíš z
 a výrazové prostředky a rád přeskakuju z jednoho do druhého\, takže
 \, když nás někdo slyší poprvé\, tak někdy i užasne... (Jakub Noha
 )\n\nJakub Noha - kytary\, zpěv\nPetr Bubák Bublák - kytara\nVojtěch N
 oha - baskytara
ATTACH;FMTTYPE=image/jpeg:https://ponava.cafe/wp-content/uploads/2021/06/1
 96444406_172436431492376_1916395962532261140_n-scaled.jpg
CATEGORIES:Koncert
END:VEVENT
BEGIN:VTIMEZONE
TZID:Europe/Prague
X-LIC-LOCATION:Europe/Prague
BEGIN:DAYLIGHT
DTSTART:20210328T030000
TZOFFSETFROM:+0100
TZOFFSETTO:+0200
TZNAME:CEST
END:DAYLIGHT
END:VTIMEZONE
END:VCALENDAR