BEGIN:VCALENDAR
VERSION:2.0
PRODID:-//wp-events-plugin.com//7.2.3.1//EN
TZID:Europe/Prague
X-WR-TIMEZONE:Europe/Prague
BEGIN:VEVENT
UID:272@ponava.cafe
DTSTART;TZID=Europe/Prague:20190714T190000
DTEND;TZID=Europe/Prague:20190714T190000
DTSTAMP:20190705T113627Z
URL:https://ponava.cafe/udalosti/jakub-hvezda-poust/
SUMMARY:Jakub Hvězda: Poušť
DESCRIPTION:Vernisáž maleb Jakuba Hvězdy.\nVýběr nové série obrazů 
 moravského rodáka\, absolventa malířství na bratislavské VŠVU\, kte
 rý se zabývá abstraktním médiem jako takovým.\n\nVýstava potrvá do
  10. srpna 2019.\n\nhttp://jakubhvezda.blogspot.com/\n\nKurátor: Jan Karp
 íšek\n\n
ATTACH;FMTTYPE=image/jpeg:https://ponava.cafe/wp-content/uploads/2017/06/t
 apeta.jpg
CATEGORIES:Výstava
END:VEVENT
BEGIN:VTIMEZONE
TZID:Europe/Prague
X-LIC-LOCATION:Europe/Prague
BEGIN:DAYLIGHT
DTSTART:20190331T030000
TZOFFSETFROM:+0100
TZOFFSETTO:+0200
TZNAME:CEST
END:DAYLIGHT
END:VTIMEZONE
END:VCALENDAR