BEGIN:VCALENDAR
VERSION:2.0
PRODID:-//wp-events-plugin.com//7.2.3.1//EN
TZID:Europe/Prague
X-WR-TIMEZONE:Europe/Prague
BEGIN:VEVENT
UID:321@ponava.cafe
DTSTART;TZID=Europe/Prague:20191030T190000
DTEND;TZID=Europe/Prague:20191030T190000
DTSTAMP:20191020T172936Z
URL:https://ponava.cafe/udalosti/ivory-tusk-argentina/
SUMMARY:Ivory Tusk (Argentina)
DESCRIPTION:Poprvé v Brně vystoupí argentinský zpěvák-skladatel Ivory
  Tusk\, který představí písně z jeho nového alba "To The Sea". Ivory
  žije v Barceloně a poslední tři roky koncertuje v Evropě\, kde vysto
 upil na festivalech jako Blue Bird (Rakousko)\, Live at Heart (Švédsko)\
 , Festa della Musica (Švýcarsko). Předskakoval také umělcům jako Tho
 mas Dybdahl a Justin Nozuka. Zpěvák-skladatel pracuje na svých písníc
 h prostřednictvím kytarové techniky fingerpicking a introspektivních a
  evokativních textů.Vstupné dobrovolné\, zážitky k nezaplacení. 
 🙂\n\n \n\n
ATTACH;FMTTYPE=image/jpeg:https://ponava.cafe/wp-content/uploads/2017/06/t
 apeta.jpg
CATEGORIES:Koncert
END:VEVENT
BEGIN:VTIMEZONE
TZID:Europe/Prague
X-LIC-LOCATION:Europe/Prague
BEGIN:STANDARD
DTSTART:20191027T020000
TZOFFSETFROM:+0200
TZOFFSETTO:+0100
TZNAME:CET
END:STANDARD
END:VTIMEZONE
END:VCALENDAR