BEGIN:VCALENDAR
VERSION:2.0
PRODID:-//wp-events-plugin.com//7.2.3.1//EN
TZID:Europe/Prague
X-WR-TIMEZONE:Europe/Prague
BEGIN:VEVENT
UID:79@ponava.cafe
DTSTART;TZID=Europe/Prague:20171217T180000
DTEND;TZID=Europe/Prague:20171217T180000
DTSTAMP:20171204T221359Z
URL:https://ponava.cafe/udalosti/irena-a-vojtech-havlovi-vanocni-hvezda/
SUMMARY:Irena a Vojtěch Havlovi – Vánoční hvězda
DESCRIPTION:Adventní koncert známé hudební dvojice proložený poezií.
 \nVánoční písně\, koledy a skladby pro zpěv\, violy da gamba\, violo
 ncello\, tibetské zvony a zvonky\, poezie.\nHost večera: básník Zdeně
 k Volf\n\n&nbsp\;\n\n\n\nIRENA &amp\; VOJTĚCH HAVLOVI\nManželská hudebn
 í dvojice\, počátky jejich umělecké spolupráce spadají do 80. let m
 inulého století. Od té doby úspěšně rozvíjejí svoje nevšední po
 jetí tradičních i novodobých skladebných technik a interpretačních 
 postupů. Jejich osobitý autorský výraz se vzpírá zařazení do jaké
 koli hudební škatulky. Výrazový rozptyl používaných vyjadřovacích
  prostředků bývá totiž u manželů Havlových ve většině případ
 ů natolik rozmanitý\, mnohotvárný a hlavně neustále se proměňujíc
 í\, že jakýkoliv pokus o alespoň rámcové slovní zachycení podstaty
  jejich muzikantského dialogu za konkrétní skutečností nutně pokulh
 ává.\nInspiraci pro hudební\, ale i vlastní filmovou tvorbu nalézají
  i v prostředí Indie\, kterou několikrát navštívili. V letošním 
 roce zkomponovali hudbu pro úspěšný film Křižáček (Křišťálový
  globus pro nejlepší film na MFF Karlovy Vary)\, inspirovaný básní Ja
 roslava Vrchlického.
ATTACH;FMTTYPE=image/jpeg:https://ponava.cafe/wp-content/uploads/2017/06/t
 apeta.jpg
CATEGORIES:Autorské čtení,Koncert
END:VEVENT
BEGIN:VTIMEZONE
TZID:Europe/Prague
X-LIC-LOCATION:Europe/Prague
BEGIN:STANDARD
DTSTART:20171029T020000
TZOFFSETFROM:+0200
TZOFFSETTO:+0100
TZNAME:CET
END:STANDARD
END:VTIMEZONE
END:VCALENDAR