BEGIN:VCALENDAR
VERSION:2.0
PRODID:-//wp-events-plugin.com//7.2.3.1//EN
TZID:Europe/Prague
X-WR-TIMEZONE:Europe/Prague
BEGIN:VEVENT
UID:442@ponava.cafe
DTSTART;TZID=Europe/Prague:20210707T200000
DTEND;TZID=Europe/Prague:20210707T220000
DTSTAMP:20210703T132550Z
URL:https://ponava.cafe/udalosti/ingvaldsen-hanousek-friedl-vtipil-nocz-dr
 umless/
SUMMARY:Ingvaldsen - Hanousek - Friedl - Vtípil (NOCZ drumless)
DESCRIPTION:Trumpetista a skladatel Didrik Ingvaldsen působí současně n
 a významných jazzových experimentálních scénách v Norsku\, Berlín
 ě a New Yorku. Společně se s Radimem Hanouskem a Marianem Friedlem (kro
 mě dalších jazzových formací se Hanousek věnuje improvizované a sou
 dobé hudbě - m.j. Dust in the Groove - a Friedl moravskému folklóru - 
 Beránci a vlci\, Ruky na dudy) setkávají již 11 let v kvartetu NOCZ. 
 Čtvrtým členem je brněnský výrobce hluku\, skladatel a performer Tom
 áš Vtípil.\n\nDidrik Ingvaldsen - trubka\nRadim Hanousek - basklarinet\
 , saxofon\nMarian Friedl - kontrabas\nTomáš Vtípil - elektronika
ATTACH;FMTTYPE=image/jpeg:https://ponava.cafe/wp-content/uploads/2021/06/1
 99822620_236353051260797_6575736315409484792_n-e1625318727506.jpg
CATEGORIES:Koncert
END:VEVENT
BEGIN:VTIMEZONE
TZID:Europe/Prague
X-LIC-LOCATION:Europe/Prague
BEGIN:DAYLIGHT
DTSTART:20210328T030000
TZOFFSETFROM:+0100
TZOFFSETTO:+0200
TZNAME:CEST
END:DAYLIGHT
END:VTIMEZONE
END:VCALENDAR