BEGIN:VCALENDAR
VERSION:2.0
PRODID:-//wp-events-plugin.com//7.2.3.1//EN
TZID:Europe/Prague
X-WR-TIMEZONE:Europe/Prague
BEGIN:VEVENT
UID:926@ponava.cafe
DTSTART;TZID=Europe/Prague:20260227T200000
DTEND;TZID=Europe/Prague:20260227T220000
DTSTAMP:20260202T215657Z
URL:https://ponava.cafe/udalosti/improvised-music-4tet/
SUMMARY:IMPROVISED MUSIC 4TET
DESCRIPTION:Francouzsko rakousko český Improvised Music 4tet. Čtveřice 
 výrazných improvizátorů ze tří zemí bezohledně a s radostí překr
 ačující hudební žánry. RadimFlorian Nastorg – baryton saxofon (FR)
 \, Radim Hanousek – soprán sax\, basklarinet (CZ)\, Yoram Rosilio – k
 ontrabas (FRA)\, Emil Gross – bicí (AT).
ATTACH;FMTTYPE=image/jpeg:https://ponava.cafe/wp-content/uploads/2026/02/y
 o.jpg
END:VEVENT
BEGIN:VTIMEZONE
TZID:Europe/Prague
X-LIC-LOCATION:Europe/Prague
BEGIN:STANDARD
DTSTART:20251026T020000
TZOFFSETFROM:+0200
TZOFFSETTO:+0100
TZNAME:CET
END:STANDARD
END:VTIMEZONE
END:VCALENDAR