BEGIN:VCALENDAR
VERSION:2.0
PRODID:-//wp-events-plugin.com//7.2.3.1//EN
TZID:Europe/Prague
X-WR-TIMEZONE:Europe/Prague
BEGIN:VEVENT
UID:103@ponava.cafe
DTSTART;TZID=Europe/Prague:20180314T190000
DTEND;TZID=Europe/Prague:20180314T190000
DTSTAMP:20180302T153736Z
URL:https://ponava.cafe/udalosti/hrozne/
SUMMARY:Hrozně
DESCRIPTION:Alternativní rock ovlivněný minimalismem\, folkem a mnoha da
 lšími směry\, existující s přestávkami v různých podobách od rok
 u 1982. Koncert v Ponavě v původním akustickém triu! Martin Kozlovský
  - metalofon\, kalimba\, perkuse\, zpěv\, Pavel Straka - akordeon\, zpěv
 \, Jaromír Řehoř - baskytara\, zpěv\n\n
ATTACH;FMTTYPE=image/jpeg:https://ponava.cafe/wp-content/uploads/2017/06/t
 apeta.jpg
CATEGORIES:Koncert
END:VEVENT
BEGIN:VTIMEZONE
TZID:Europe/Prague
X-LIC-LOCATION:Europe/Prague
BEGIN:STANDARD
DTSTART:20171029T020000
TZOFFSETFROM:+0200
TZOFFSETTO:+0100
TZNAME:CET
END:STANDARD
END:VTIMEZONE
END:VCALENDAR