BEGIN:VCALENDAR
VERSION:2.0
PRODID:-//wp-events-plugin.com//7.2.3.1//EN
TZID:Europe/Prague
X-WR-TIMEZONE:Europe/Prague
BEGIN:VEVENT
UID:253@ponava.cafe
DTSTART;TZID=Europe/Prague:20190605T190000
DTEND;TZID=Europe/Prague:20190605T190000
DTSTAMP:20190513T131405Z
URL:https://ponava.cafe/udalosti/hrozne-2/
SUMMARY:Hrozně + Kingsfield
DESCRIPTION:HROZNĚ mají konečně nové album! Jmenuje se TICHO a celé h
 o živě zahrají právě na tomto jedinečném koncertu na Ponavě. Samoz
 řejmě si tam taky TICHO můžete koupit jako CD a když to dobře dopadn
 e tak i jako klasické vinylové LP. Další překvapení a hosté nejsou 
 vyloučeni\, v každém případě zahrají jako hosté taky KINGSFIELD - 
 čerstvá smaženice z vajec rockových dinosaurů! No a ti si dokonce tro
 ufnou i na písničku od HROZNĚ…\n\n\n\n.               
                                      
                              Vstupné dobrovolné\, záž
 itky k nezaplacení. :)
ATTACH;FMTTYPE=image/jpeg:https://ponava.cafe/wp-content/uploads/2017/06/t
 apeta.jpg
CATEGORIES:Koncert
END:VEVENT
BEGIN:VTIMEZONE
TZID:Europe/Prague
X-LIC-LOCATION:Europe/Prague
BEGIN:DAYLIGHT
DTSTART:20190331T030000
TZOFFSETFROM:+0100
TZOFFSETTO:+0200
TZNAME:CEST
END:DAYLIGHT
END:VTIMEZONE
END:VCALENDAR