BEGIN:VCALENDAR
VERSION:2.0
PRODID:-//wp-events-plugin.com//7.2.3.1//EN
TZID:Europe/Prague
X-WR-TIMEZONE:Europe/Prague
BEGIN:VEVENT
UID:271@ponava.cafe
DTSTART;TZID=Europe/Prague:20190713T190000
DTEND;TZID=Europe/Prague:20190713T190000
DTSTAMP:20190705T115153Z
URL:https://ponava.cafe/udalosti/hornacka-cimbalova-muzika-libora-supa/
SUMMARY:Horňácká cimbálová muzika Libora Supa
DESCRIPTION:Šeckých Vás týmto zveme (jak diváků\, ale klidně aj jak 
 sútěžící) na zpěvácko-vědomostní sútěž „O najvěčího znalc
 a horňáckých sedláckých“\, kerá sa uskuteční v PONAVĚ v 13.7. o
 d 19:00 hodin\, za doprovodu a pod záščitú HCM Libora Supa.\n\nVstupn
 é dobrovolné\, zážitky k nezaplacení :)\n\n&nbsp\;\n\n
ATTACH;FMTTYPE=image/jpeg:https://ponava.cafe/wp-content/uploads/2017/06/t
 apeta.jpg
CATEGORIES:Koncert
END:VEVENT
BEGIN:VTIMEZONE
TZID:Europe/Prague
X-LIC-LOCATION:Europe/Prague
BEGIN:DAYLIGHT
DTSTART:20190331T030000
TZOFFSETFROM:+0100
TZOFFSETTO:+0200
TZNAME:CEST
END:DAYLIGHT
END:VTIMEZONE
END:VCALENDAR