BEGIN:VCALENDAR
VERSION:2.0
PRODID:-//wp-events-plugin.com//7.2.3.1//EN
TZID:Europe/Prague
X-WR-TIMEZONE:Europe/Prague
BEGIN:VEVENT
UID:444@ponava.cafe
DTSTART;TZID=Europe/Prague:20210716T173000
DTEND;TZID=Europe/Prague:20210716T220000
DTSTAMP:20210703T140417Z
URL:https://ponava.cafe/udalosti/heavy-mental-22/
SUMMARY:HEAVY MENTAL #22
DESCRIPTION:Hugo &amp\; Zoe\, Tomáš Vtípil &amp\; Chernobyl v PONAVĚ!\n
 \nPo devíti letech se vrací přehlídka netradiční a experimentální 
 elektronické hudby Heavy Mental.\nDalší info již brzy...
ATTACH;FMTTYPE=image/jpeg:https://ponava.cafe/wp-content/uploads/2021/07/h
 eavymental-22-ponava-teas.png
CATEGORIES:Koncert
END:VEVENT
BEGIN:VTIMEZONE
TZID:Europe/Prague
X-LIC-LOCATION:Europe/Prague
BEGIN:DAYLIGHT
DTSTART:20210328T030000
TZOFFSETFROM:+0100
TZOFFSETTO:+0200
TZNAME:CEST
END:DAYLIGHT
END:VTIMEZONE
END:VCALENDAR