BEGIN:VCALENDAR
VERSION:2.0
PRODID:-//wp-events-plugin.com//7.2.3.1//EN
TZID:Europe/Prague
X-WR-TIMEZONE:Europe/Prague
BEGIN:VEVENT
UID:257@ponava.cafe
DTSTART;TZID=Europe/Prague:20190618T190000
DTEND;TZID=Europe/Prague:20190618T190000
DTSTAMP:20190528T131430Z
URL:https://ponava.cafe/udalosti/heartbeat/
SUMMARY:HeartBeat project
DESCRIPTION:Brněnské hardfunkové seskupení hrající vlastní tvorbu\, 
 ale i převzaté kompozice (The Rudder\, Alfa Mist\, J Dilla). V tomto tě
 lese spojily své hudební směřování muzikanti\n\nVlado Micenko/bass\n
 Gabriel Červeňák/kytara\nMatej Štefík/bicí\nMatej Mind/kytara\nPeter
  Smékal/saxofon\n\n&nbsp\;\n\n&nbsp\;\n\nVstupné dobrovolné\, zážitky
  k nezaplacení. :)\n\n&nbsp\;\n\n&nbsp\;
ATTACH;FMTTYPE=image/jpeg:https://ponava.cafe/wp-content/uploads/2017/06/t
 apeta.jpg
CATEGORIES:Koncert
END:VEVENT
BEGIN:VTIMEZONE
TZID:Europe/Prague
X-LIC-LOCATION:Europe/Prague
BEGIN:DAYLIGHT
DTSTART:20190331T030000
TZOFFSETFROM:+0100
TZOFFSETTO:+0200
TZNAME:CEST
END:DAYLIGHT
END:VTIMEZONE
END:VCALENDAR