BEGIN:VCALENDAR
VERSION:2.0
PRODID:-//wp-events-plugin.com//7.2.3.1//EN
TZID:Europe/Prague
X-WR-TIMEZONE:Europe/Prague
BEGIN:VEVENT
UID:87@ponava.cafe
DTSTART;TZID=Europe/Prague:20180207T190000
DTEND;TZID=Europe/Prague:20180207T190000
DTSTAMP:20180117T170642Z
URL:https://ponava.cafe/udalosti/hazafele/
SUMMARY:Hazafele
DESCRIPTION:Kapela Hazafele zajistí všem přítomným divákům příval 
 nehynoucí energie. Maďarské a romské melodie v jejich podání Vám p
 řejdou rovnou do krve.\n\nKytara - David Golas\nHousle - Martin Holinka\n
 Kontrabas - Šimon Jakubíček\nHost - zpěv - Eva Křivánková\n\n
ATTACH;FMTTYPE=image/jpeg:https://ponava.cafe/wp-content/uploads/2017/06/t
 apeta.jpg
CATEGORIES:Koncert
END:VEVENT
BEGIN:VTIMEZONE
TZID:Europe/Prague
X-LIC-LOCATION:Europe/Prague
BEGIN:STANDARD
DTSTART:20171029T020000
TZOFFSETFROM:+0200
TZOFFSETTO:+0100
TZNAME:CET
END:STANDARD
END:VTIMEZONE
END:VCALENDAR