BEGIN:VCALENDAR
VERSION:2.0
PRODID:-//wp-events-plugin.com//7.2.3.1//EN
TZID:Europe/Prague
X-WR-TIMEZONE:Europe/Prague
BEGIN:VEVENT
UID:154@ponava.cafe
DTSTART;TZID=Europe/Prague:20180822T190000
DTEND;TZID=Europe/Prague:20180822T190000
DTSTAMP:20180817T093818Z
URL:https://ponava.cafe/udalosti/harmonic-play/
SUMMARY:Wroblewski & Seshen\, Hanousek & Vítová
DESCRIPTION:SESHEN/WRÓBLEWSKI (JAP/CZ)\nSeshen a Michal Wróblewski se pot
 kali v roce 2014 v Oslu na hudební akademii\, kde Seshen studovala interd
 isciplinární program zvaný Freemover a Michal magisterský program na o
 ddělení improvizované hudby a jazzu. Od začátku spolu tvořili v růz
 ných uskupeních (např. Michal Wróblewski Ensemble) a po krátké době
  začali také vystupovat v duu.\n\nToto duo pracuje s hlubokým prožitke
 m zvuku\, zkoumá jeho možnosti a struktury\, zaměřuje se na tělesnost
  a pomocí soustředěné a citlivé interakce kombinuje své možnosti sk
 rze dvě těla - dva nástroje\n\nSeshen je zpěvačka a tanečnice z Japo
 nska\, v současné době žijící v Norsku\, která vystupuje a vede wor
 kshopy po celém světě. Její umělecká činnost je založená na zvnit
 ření\, interpretaci a vyjádření přírodního fenoménu skrze hlas a 
 pohybovou improvizaci. Do své umělecké praxe vnáší holistickou persp
 ektivu vycházející ze vztahu člověka a přírody\, domorodých tradic
  i starověkých kosmologií a léčebných procesů.\n\nhttp://www.seshen
 arts.com\n\nMichal Wróblewski je skladatel a saxofonista žijící v Praz
 e. V Čechách vede několik těles: E Converso\, Swomp\, Janoušek-Wróbl
 ewski Quartet a Nejtek-Klápště-Wróblewski \, kromě svých českých p
 rojektů\nhraje v kapelách (KIAP\, Michal Wróblewski Ensemble\, Mooyh ne
 bo Transitory Museum of Minds) \, jejichž členové z převážné větš
 iny sídlí v Oslu. S těmito projekty vystupoval a vystupuje v Čechách\
 , Norsku\, ve velké části Evropy\, ale i v Japonsku\, Zimbabwe\,Malawi\
 , Uzbekistánu nebo New Yorku.\n\nhttp://wroblewski.cz\n\nŽaneta Vítová
 \nVystudovala hru na akordeon na Pražské konzervatoři. Své klasické h
 udební vzdělání rozšiřuje o prvky jazzu\, landartu a volné improviz
 ace. S uměleckou skupinou Na okraji tvořila landarty (díla v krajině) 
 na téma sudetská krajina okolo Anenské Studánky a Rychlebských hor. J
 e členkou brněnské experimentální kapely Dust in the Groove. Spolupra
 cuje se zpěvačkou a hlasovou performerkou Annabelle Plum\, se kterou vyt
 váří sight-specific improvizace v duu akordeon a hlas. S operou Janáč
 kova divadla nastudovala operu Powder Her Face a spolupracuje se souborem 
 Opera Diversa. Své mimoumělecké aktivity zaměřuje na alternativní vz
 dělávací směry a efektivní komunikaci.\n\nRadim Hanousek\nJazzový sa
 xofonista\, improvizátor\, skladatel. V současné době se věnuje kvart
 etu NOCZ norského trumpetisty Didrika Ingvaldsena s hostující Ivou Bitt
 ovou\, vlastnímu autorskému projektu Dust in the Groove\, soudobé váž
 né hudbě (Peter Graham\, Dunami ensemble\, Lucie Vítková) a dalším h
 udebním i organizačním činnostem.\n\n&nbsp\;
ATTACH;FMTTYPE=image/jpeg:https://ponava.cafe/wp-content/uploads/2017/06/t
 apeta.jpg
CATEGORIES:Koncert
END:VEVENT
BEGIN:VTIMEZONE
TZID:Europe/Prague
X-LIC-LOCATION:Europe/Prague
BEGIN:DAYLIGHT
DTSTART:20180325T030000
TZOFFSETFROM:+0100
TZOFFSETTO:+0200
TZNAME:CEST
END:DAYLIGHT
END:VTIMEZONE
END:VCALENDAR