BEGIN:VCALENDAR
VERSION:2.0
PRODID:-//wp-events-plugin.com//7.2.3.1//EN
TZID:Europe/Prague
X-WR-TIMEZONE:Europe/Prague
BEGIN:VEVENT
UID:400@ponava.cafe
DTSTART;TZID=Europe/Prague:20200813T170000
DTEND;TZID=Europe/Prague:20200813T173000
DTSTAMP:20200805T155628Z
URL:https://ponava.cafe/udalosti/hannover-brno-trio/
SUMMARY:Hannover-Brno Trio
DESCRIPTION:Hannover-Brno Trio alias Hyoscyamus Albus : Kapela je složen
 á z hudebníků projektu Hannover-Brno Ensemble\, která tento rok účin
 kuje na festivalu Maraton Hudby. Trio je kombinací nezvyklého složení 
 saxofon-piáno-violoncello. Na koncertu zaznějí autorské kompozice mod
 erního jazzu\, protkaného zvukem akustických a elektronických možnost
 í violoncella.\n Saxofon: Richard Hackël\nPiano: Malte Winter\nCello: M
 öniinöm Chou\n\n\n\n\nKoncerty jsou u nás stále za dobrovolně vstupn
 é\, ale těch nejlepších míst není zas tak mnoho. Pokud chcete mít 
 jistotu\, že dobře uvidíte a uslyšíte\, kupte si místenku! Můžet
 e si ji rezervovat online na: www.ponavafest.cz/rezervace/\nHannover-Brno 
 Trio / Odysea Mariana Friedla / Jaromír Honzák Quintet - Místenka: 250
  Kč\n\n\n\nKoncert probíhá ve spolupráci s Maratonem hudby Brno\n\n\n\
 n\n
ATTACH;FMTTYPE=image/jpeg:https://ponava.cafe/wp-content/uploads/2017/06/t
 apeta.jpg
CATEGORIES:Festival,Koncert
END:VEVENT
BEGIN:VTIMEZONE
TZID:Europe/Prague
X-LIC-LOCATION:Europe/Prague
BEGIN:DAYLIGHT
DTSTART:20200329T030000
TZOFFSETFROM:+0100
TZOFFSETTO:+0200
TZNAME:CEST
END:DAYLIGHT
END:VTIMEZONE
END:VCALENDAR