BEGIN:VCALENDAR
VERSION:2.0
PRODID:-//wp-events-plugin.com//7.2.3.1//EN
TZID:Europe/Prague
X-WR-TIMEZONE:Europe/Prague
BEGIN:VEVENT
UID:410@ponava.cafe
DTSTART;TZID=Europe/Prague:20200821T200000
DTEND;TZID=Europe/Prague:20200821T210000
DTSTAMP:20200817T185118Z
URL:https://ponava.cafe/udalosti/gulo-car/
SUMMARY:Four Gipsy Soul // Gulo Čar pro Krista v Ponavě!
DESCRIPTION:\nKvůli zdravotním komplikacím jednoho člena kapely\, pozm
 ěňujeme koncept ve složení skupiny\, ale nebojte\, o zážitek ani ene
 rgii nepřijdete! \n\n\nNové uskupení hraje ve složení: \n\n\n \n\n\n
 Denis Dirda - Klávesy\n\n\nPavel Dirda Mladší - Bicí\n\n\nPATRIK Horv
 áth - Bass\n\n\nDRUPI Richter - kytara\n\n\nVLADIMÍR Richter - Klávesy\
 n\n&nbsp\;\n\n„Gulo čar v romštině znamená sladká tráva\, ale tak
 é sladká mísa – tak jsme jako děti říkali kakaové buchtě\, ktero
 u nám pekla maminka\,“ říká kapelník a baskytarista téhle brněnsk
 é funky senzace Vladimír Dirda. A hudební publicista Tomáš S. Polívk
 a k tomu dodává: „Lepší charakteristiku hudby Gulo Čar snad nelze v
 ymyslet. Stejně voňavá\, nadýchaná a plná energie jako vzpomínka z 
 dětství je i tahle směs funky\, popu a romské melodiky\, ozdobená ná
 dherným hlasem zpěvačky Ireny Horváthové.“\n\nKariéru Gulo čar zd
 obí několik zásadních úspěchů: za druhé album Baro drom získali v
  roce 2003 Anděla v kategorii world music\, třetí album Gipsy Goes To H
 ollywood jim roku 2006 produkoval Doug Wimbish ze slavných Living Colour\
 , téhož roku úspěšně předskakovali samotnému Kmotrovi funku Jamesi
  Brownovi.\n\nVstupné dobrovolné
ATTACH;FMTTYPE=image/jpeg:https://ponava.cafe/wp-content/uploads/2017/06/t
 apeta.jpg
CATEGORIES:Koncert
END:VEVENT
BEGIN:VTIMEZONE
TZID:Europe/Prague
X-LIC-LOCATION:Europe/Prague
BEGIN:DAYLIGHT
DTSTART:20200329T030000
TZOFFSETFROM:+0100
TZOFFSETTO:+0200
TZNAME:CEST
END:DAYLIGHT
END:VTIMEZONE
END:VCALENDAR