BEGIN:VCALENDAR
VERSION:2.0
PRODID:-//wp-events-plugin.com//7.2.3.1//EN
TZID:Europe/Prague
X-WR-TIMEZONE:Europe/Prague
BEGIN:VEVENT
UID:409@ponava.cafe
DTSTART;TZID=Europe/Prague:20200816T200000
DTEND;TZID=Europe/Prague:20200816T210000
DTSTAMP:20200814T081856Z
URL:https://ponava.cafe/udalosti/groovejazz-made-in-austria-andi-wilding-g
 roovetet/
SUMMARY:Groovejazz made in Austria: Andi Wilding Groovetet
DESCRIPTION:„Groovetet“ rakouského kytaristy Andi Wildinga zve posluch
 ače a jiné hudebníky\, aby otevřeli svou mysl kreativitě a originalit
 ě.\nModerní a funky jazz clubové skladby jsou místy syrové a chytlav
 é a posléze jemné a křehké.\nMelodická hloubka pohybující se nahor
 u a dolů nutí posluchače poslouchat Groovetetu Andi Wildinga znovu a zn
 ovu.\n\nAndi Wilding - kytara\nJoe Gridl - bass\nMartin Kleibl - bubny\n\n
 Video:\nhttps://youtu.be/GXtaU25PoLo\nhttps://youtu.be/8KciC354ML8\nhttps:
 //youtu.be/addFeEIGTPA\n\nVstupné dobrovolné\, Místenka 150 Kč\n\nKon
 cert probíhá ve spolupráci s Maratonem hudby Brno\n\n\n
ATTACH;FMTTYPE=image/jpeg:https://ponava.cafe/wp-content/uploads/2017/06/t
 apeta.jpg
CATEGORIES:Koncert
END:VEVENT
BEGIN:VTIMEZONE
TZID:Europe/Prague
X-LIC-LOCATION:Europe/Prague
BEGIN:DAYLIGHT
DTSTART:20200329T030000
TZOFFSETFROM:+0100
TZOFFSETTO:+0200
TZNAME:CEST
END:DAYLIGHT
END:VTIMEZONE
END:VCALENDAR