BEGIN:VCALENDAR
VERSION:2.0
PRODID:-//wp-events-plugin.com//7.2.3.1//EN
TZID:Europe/Prague
X-WR-TIMEZONE:Europe/Prague
BEGIN:VEVENT
UID:125@ponava.cafe
DTSTART;TZID=Europe/Prague:20180610T203000
DTEND;TZID=Europe/Prague:20180610T203000
DTSTAMP:20180528T160441Z
URL:https://ponava.cafe/udalosti/george-haslam/
SUMMARY:George Haslam
DESCRIPTION:GEORGE HASLAM ~ baritone sax\, tarogató\nSTEVE HUBBACK ~ drums
 \, gongs\, cymbals\nAiDA MUjAĆiČ ~ piano\, voice\nJOZEF LÁSKA ~ bass\n&
 amp\; our dear guest VOJTĚCH HAVEL ~ violoncello\n\niMPRO~FREE~jAZZ~EVENi
 NG (UK/WALES/BOSNiA/SK)\n\n\n\n&nbsp\;\n\nhttp://www.georgehaslam.com/
ATTACH;FMTTYPE=image/jpeg:https://ponava.cafe/wp-content/uploads/2017/06/t
 apeta.jpg
CATEGORIES:Koncert
END:VEVENT
BEGIN:VTIMEZONE
TZID:Europe/Prague
X-LIC-LOCATION:Europe/Prague
BEGIN:DAYLIGHT
DTSTART:20180325T030000
TZOFFSETFROM:+0100
TZOFFSETTO:+0200
TZNAME:CEST
END:DAYLIGHT
END:VTIMEZONE
END:VCALENDAR