BEGIN:VCALENDAR
VERSION:2.0
PRODID:-//wp-events-plugin.com//7.2.3.1//EN
TZID:Europe/Prague
X-WR-TIMEZONE:Europe/Prague
BEGIN:VEVENT
UID:226@ponava.cafe
DTSTART;TZID=Europe/Prague:20190220T200000
DTEND;TZID=Europe/Prague:20190220T223000
DTSTAMP:20190130T123120Z
URL:https://ponava.cafe/udalosti/georege-cremaschi-pavel-zlamal/
SUMMARY:George Cremaschi + Pavel Zlámal
DESCRIPTION:George Cremaschi (kontrabas) &amp\; Pavel Zlámal (klarinet/sax
 ofon)\nVůdčí postavy české experimentální a improvizační scény\,
  nyní opět v jako duo. Od počátku svého působení se tento tandem dr
 ží linie průzkumu přirozené nástrojové akustiky. Svým hraničním 
 přístupem však dokazují\, že čistá akustika ještě zdaleka není p
 ole vyčerpané. Improvizační duo spolu tvoří již 6 let a mají za se
 bou řadu vystoupení nejen čistě hudebních resp. zvukových\, ale tak
 é např. ve spojení s výtvarným a vizuálním uměním či tancem. Tro
 chu symbolicky vede také každý z nich\, kromě řady dalších projekt
 ů\, svůj improvizační orchestr (Zlámal: Divergent Connections - Brno\
 , Cremaschi: Pražský improvizační orchestr). Jejich hráčské kvality
  a unikátní společná hudební řeč se staly též inspirací pro vzni
 k skladeb (jako např. COAX soudobého skladatele Petera Grahama věnovan
 á právě tomuto duu)\nGeorge Cremaschi\n\n\n\nNarodil se v New Yorku\, k
 de také studoval hudbu a skladbu. Napsal kompozice pro tanečníky\, rock
 ové skupiny\, tvůrce instalací\, improvizátory\, básníky\, filmy\, f
 olkové hudebníky\, divadla a orchestry. Spolupracoval s mnoha vynikajíc
 ími umělci například Nicolas Collins\, Evan Parker\, Mats Gustafsson\,
  Lê Quan Ninh\, Gino Robair\, Rova Saxophone Quartet\, Andrea Parkins\, M
 arshall Allen\, Butch Morris\, Saadet Türköz\, Matthew Ostrowski a mnoho
  dalších. V současnosti spolupracuje s mnoha uskupeními\, mezi nimi s 
 Pražským improvizačním orchestrem\, který založil společně s Petre
 m Vrbou. Mimo jiné působí jako pedagog na FAMU a Prague College.\n\nwww
 .georgecremaschi.com\n\n&nbsp\;\n\n&nbsp\;\n\nPavel Zlámal \n\n\n\nAbsolv
 ent oboru klarinet na JAMU v Brně\, interpret\, improvizátor\, autor vla
 stní hudby\, činný v oblasti klasické i soudobé vážné hudby. Jako 
 sólista i člen ansámblů účinkoval na festivalech: Alternativa\, Expo
 zice Nové Hudby\, Hear Me!\, Ostravské dny\, Vs. Interpretation\, Music 
 Olomouc aj.) Spolupracuje mj. s Brno Contemporary Orchestra\, Pražským i
 mprovizačním orchestrem i Filharmonií Brno. Je etablovaný na experimen
 tální i jazzové scéně. Vede několik autorských projektů (Brno Impr
 ovising Unit\, Divergent Connections Orchestra\, Next Phase\, Heterofón\,
  PQ či ZKKP) a kromě řady ad hoc seskupení je členem dalších brněn
 ských formací (B-Side Band\, The Fireballs &amp\; Gone Hepsville). Svou 
 improvizační orientaci rozpracoval též v doktorském studiu na JAMU\, 
 kde nyní působí jako pedagog.\n\nwww.pavelzlamal.com
ATTACH;FMTTYPE=image/jpeg:https://ponava.cafe/wp-content/uploads/2017/06/t
 apeta.jpg
CATEGORIES:Koncert
END:VEVENT
BEGIN:VTIMEZONE
TZID:Europe/Prague
X-LIC-LOCATION:Europe/Prague
BEGIN:STANDARD
DTSTART:20181028T020000
TZOFFSETFROM:+0200
TZOFFSETTO:+0100
TZNAME:CET
END:STANDARD
END:VTIMEZONE
END:VCALENDAR