BEGIN:VCALENDAR
VERSION:2.0
PRODID:-//wp-events-plugin.com//7.2.3.1//EN
TZID:Europe/Prague
X-WR-TIMEZONE:Europe/Prague
BEGIN:VEVENT
UID:934@ponava.cafe
DTSTART;TZID=Europe/Prague:20260410T200000
DTEND;TZID=Europe/Prague:20260410T220000
DTSTAMP:20260322T175439Z
URL:https://ponava.cafe/udalosti/frisk/
SUMMARY:FRISK
DESCRIPTION:Freejazzové impro\, jazzcoreová nakládačka se špetkou nois
 u a stopovými prvky nejen ugrofinského folku. V poslední době pracuje 
 trio Frisk na částečně komponovaných hudebních celcích\, kde se mez
 i sonickými explozemi objevují rytmické struktury\, konceptuální sofi
 stikovanost jde ruku v ruce s rozverností a z freejazzového svrchníku s
 e občas line hlas muezzinův.  
ATTACH;FMTTYPE=image/jpeg:https://ponava.cafe/wp-content/uploads/2026/03/f
 risk-2024.jpg
END:VEVENT
BEGIN:VTIMEZONE
TZID:Europe/Prague
X-LIC-LOCATION:Europe/Prague
BEGIN:DAYLIGHT
DTSTART:20260329T030000
TZOFFSETFROM:+0100
TZOFFSETTO:+0200
TZNAME:CEST
END:DAYLIGHT
END:VTIMEZONE
END:VCALENDAR