BEGIN:VCALENDAR
VERSION:2.0
PRODID:-//wp-events-plugin.com//7.2.3.1//EN
TZID:Europe/Prague
X-WR-TIMEZONE:Europe/Prague
BEGIN:VEVENT
UID:427@ponava.cafe
DTSTART;TZID=Europe/Prague:20201006T190000
DTEND;TZID=Europe/Prague:20201006T200000
DTSTAMP:20201002T093451Z
URL:https://ponava.cafe/udalosti/freetown-quartet/
SUMMARY:Freetown Quartet
DESCRIPTION:Kapela vznikla minulý rok v dánské Kodani\, kde se potkal sa
 xofonista Luboš Soukup a pianista Vojtěch Procházka za účelem natoče
 ní LP v legendárním klubu Børneteateret v autonomní části Kodaně C
 hristianii. Na novém albu\, který bude band prezentovat v rámci podzimn
 ího turné vystupuje dánská rytmika Emil B. Madsen a Morten Hæsum. Bě
 hem českého turné budou frontmani Soukup a Procházka vystupovat s mís
 tními jazzmany Rastislavem Uhríkem na kontrabas a Jakubem Švejnarem na 
 bicí. Kapelu nejlépe charakterizuje spontaneita\, hluboký ponor do spol
 ečných improvizací\, vintage zvuk. Skvěle swingující a groovující 
 rytmika podporuje brilantní sólisty. Repertoár kapely je složen jak z 
 originálních skladeb všech členů\, tak i skladeb např. T.Monka nebo 
 O. Colemana.
ATTACH;FMTTYPE=image/jpeg:https://ponava.cafe/wp-content/uploads/2017/06/t
 apeta.jpg
CATEGORIES:Koncert
END:VEVENT
BEGIN:VTIMEZONE
TZID:Europe/Prague
X-LIC-LOCATION:Europe/Prague
BEGIN:DAYLIGHT
DTSTART:20200329T030000
TZOFFSETFROM:+0100
TZOFFSETTO:+0200
TZNAME:CEST
END:DAYLIGHT
END:VTIMEZONE
END:VCALENDAR