BEGIN:VCALENDAR
VERSION:2.0
PRODID:-//wp-events-plugin.com//7.2.3.1//EN
TZID:Europe/Prague
X-WR-TIMEZONE:Europe/Prague
BEGIN:VEVENT
UID:147@ponava.cafe
DTSTART;TZID=Europe/Prague:20180726T190000
DTEND;TZID=Europe/Prague:20180726T190000
DTSTAMP:20180702T091253Z
URL:https://ponava.cafe/udalosti/free-balkan-kvintet/
SUMMARY:Free Balkan Quintet
DESCRIPTION:Free Balkan Quintet je kapela se základnou v Praze\, která zp
 racovává lidovou hudbu balkánských zemí. Mísí ji s vlivy jazzu\, so
 udobé hudby i volné improvizace\, přičemž stále zachovává typicky 
 balkánskou rytmiku a doplňuje ji o netradiční hudební postupy.\nNápa
 dité aranže hrají jejich autoři Tomáš Mika (kytarové banjo) a Kiere
 n Alexander (akordeon) spolu s Milanem Jakešem (housle)\, Ondřejem Komá
 rkem (kontrabas) a Jaroslavem Nogou (bicí).
ATTACH;FMTTYPE=image/jpeg:https://ponava.cafe/wp-content/uploads/2017/06/t
 apeta.jpg
CATEGORIES:Koncert
END:VEVENT
BEGIN:VTIMEZONE
TZID:Europe/Prague
X-LIC-LOCATION:Europe/Prague
BEGIN:DAYLIGHT
DTSTART:20180325T030000
TZOFFSETFROM:+0100
TZOFFSETTO:+0200
TZNAME:CEST
END:DAYLIGHT
END:VTIMEZONE
END:VCALENDAR