BEGIN:VCALENDAR
VERSION:2.0
PRODID:-//wp-events-plugin.com//7.2.3.1//EN
TZID:Europe/Prague
X-WR-TIMEZONE:Europe/Prague
BEGIN:VEVENT
UID:337@ponava.cafe
DTSTART;TZID=Europe/Prague:20191209T190000
DTEND;TZID=Europe/Prague:20191209T190000
DTSTAMP:20191201T173009Z
URL:https://ponava.cafe/udalosti/franz-hautzinger-petr-vrba/
SUMMARY:Franz Hautzinger & Petr Vrba
DESCRIPTION:Duo výrazných osobností současné improvizační hudby pře
 dstavuje jedinečné spojení dvou různých přístupů k instrumentáln
 í hře. Společné je pro ně rozšiřování hranic nástrojových možn
 ostí i samotných hranic hudby. Vzájemné pozorné naslouchání a vzáj
 emná inspirace je vedou po nových cestách do fantaskních zvukových kr
 ajin a činí z každého jejich vystoupení ojedinělý posluchačský z
 ážitek.\nRakouský\, dnes ve Francii žijící\, hráč na čtvrttónovo
 u trubku Franz Hautzinger začínal jako jazzový trumpetista. Po proděla
 né obrně rtů našel zcela originální způsob používání nástroje 
 a vyvinul osobitý styl založený na prozkoumávání nástroje netradič
 ním způsobem. Jeho hudební imaginace a nezdolnost v hledání jej přiv
 edla do špičky experimentujících hudebníků (http://franzhautzinger.c
 om).\nFranz Hautzinger je živoucím potvrzením výroku houslisty Irvina 
 Ardittiho: "Hudbu netvoří nástroje\, hudbu tvoří lidé!"\nPetr Vrba 
 žije v Praze\, kde působí jako spiritus agens improvizační scény. Je
 ho hlavní činností je však spolupráce s mezinárodní elitou experime
 ntálních hudebníků\, kde si vydobyl již pevné místo (http://vrrrba.
 cz). Na rozdíl od Franze Hautzingera\, který objevuje nové možnosti uv
 niř nástroje\, Petr Vrba je hledá v zapojení trubky do nových souvisl
 ostí a vytváření nových kontextů dalšími prostředky\, akustickým
 i i elektronickými. Prokazuje při tom obdivuhodnou vynalézavost vedenou
  okouzlením z akustického zážitku. Jejich duo pak nabízí zajímavou 
 konfrontaci těchto vzájemně se doplňujících pojetí.\nVstupné dobro
 volné\, zážitky k nezaplacení. 🙂\n&nbsp\;\n\n
ATTACH;FMTTYPE=image/jpeg:https://ponava.cafe/wp-content/uploads/2017/06/t
 apeta.jpg
CATEGORIES:Koncert
END:VEVENT
BEGIN:VTIMEZONE
TZID:Europe/Prague
X-LIC-LOCATION:Europe/Prague
BEGIN:STANDARD
DTSTART:20191027T020000
TZOFFSETFROM:+0200
TZOFFSETTO:+0100
TZNAME:CET
END:STANDARD
END:VTIMEZONE
END:VCALENDAR