BEGIN:VCALENDAR
VERSION:2.0
PRODID:-//wp-events-plugin.com//7.2.3.1//EN
TZID:Europe/Prague
X-WR-TIMEZONE:Europe/Prague
BEGIN:VEVENT
UID:925@ponava.cafe
DTSTART;TZID=Europe/Prague:20260224T200000
DTEND;TZID=Europe/Prague:20260224T220000
DTSTAMP:20260202T215100Z
URL:https://ponava.cafe/udalosti/frantisek-vanicek-trio/
SUMMARY:FRANTIŠEK VANÍČEK TRIO
DESCRIPTION:Jazzové uskupení František Vaníček Trio ve složení trubk
 a\, elektrická kytara a kontrabas spojuje tři hudebníky pocházející 
 z Prahy\, které svedla dohromady společná vášeň  pro jazz a improv
 izaci. Přestože dnes každý z nich studuje na jiné evropské hudební 
 vysoké škole\, jejich hudební dialog zůstává pevně zakořeněný ve
  společných začátcích a sdíleném hudebním jazyce.
ATTACH;FMTTYPE=image/jpeg:https://ponava.cafe/wp-content/uploads/2026/02/f
 ranta-trio.jpeg
END:VEVENT
BEGIN:VTIMEZONE
TZID:Europe/Prague
X-LIC-LOCATION:Europe/Prague
BEGIN:STANDARD
DTSTART:20251026T020000
TZOFFSETFROM:+0200
TZOFFSETTO:+0100
TZNAME:CET
END:STANDARD
END:VTIMEZONE
END:VCALENDAR