BEGIN:VCALENDAR
VERSION:2.0
PRODID:-//wp-events-plugin.com//7.2.3.1//EN
TZID:Europe/Prague
X-WR-TIMEZONE:Europe/Prague
BEGIN:VEVENT
UID:117@ponava.cafe
DTSTART;TZID=Europe/Prague:20180530T190000
DTEND;TZID=Europe/Prague:20180530T190000
DTSTAMP:20180430T085544Z
URL:https://ponava.cafe/udalosti/four-in-blue/
SUMMARY:Four in blue
DESCRIPTION:Radek Zapadlo - saxofon\n\nVladan Ronner - hammond organ\n\nVil
 ém Spilka - kytara\n\nKristian Kuruc - bicí\n\nZemité blues inspirovan
 é legendárními nahrávkami hráče na "hammondky" Jimmyho Smithe dopln
 ěné jazzovými standardy.
ATTACH;FMTTYPE=image/jpeg:https://ponava.cafe/wp-content/uploads/2017/06/t
 apeta.jpg
CATEGORIES:Koncert
END:VEVENT
BEGIN:VTIMEZONE
TZID:Europe/Prague
X-LIC-LOCATION:Europe/Prague
BEGIN:DAYLIGHT
DTSTART:20180325T030000
TZOFFSETFROM:+0100
TZOFFSETTO:+0200
TZNAME:CEST
END:DAYLIGHT
END:VTIMEZONE
END:VCALENDAR