BEGIN:VCALENDAR
VERSION:2.0
PRODID:-//wp-events-plugin.com//7.2.3.1//EN
TZID:Europe/Prague
X-WR-TIMEZONE:Europe/Prague
BEGIN:VEVENT
UID:256@ponava.cafe
DTSTART;TZID=Europe/Prague:20190614T190000
DTEND;TZID=Europe/Prague:20190614T190000
DTSTAMP:20190528T131248Z
URL:https://ponava.cafe/udalosti/four-gypsy-soul/
SUMMARY:Four Gypsy Soul
DESCRIPTION:Do Ponavy zavítá brněnská romská kapela\, která přinese 
 trochu živelnosti. Hrají funk\, RnB\, soul\, latino a jmenují se Four G
 ypsy Soul!\n\nVstupné dobrovolné\, zážitky k nezaplacení. :)\n\n
ATTACH;FMTTYPE=image/jpeg:https://ponava.cafe/wp-content/uploads/2017/06/t
 apeta.jpg
CATEGORIES:Koncert
END:VEVENT
BEGIN:VTIMEZONE
TZID:Europe/Prague
X-LIC-LOCATION:Europe/Prague
BEGIN:DAYLIGHT
DTSTART:20190331T030000
TZOFFSETFROM:+0100
TZOFFSETTO:+0200
TZNAME:CEST
END:DAYLIGHT
END:VTIMEZONE
END:VCALENDAR