BEGIN:VCALENDAR
VERSION:2.0
PRODID:-//wp-events-plugin.com//7.2.3.1//EN
TZID:Europe/Prague
X-WR-TIMEZONE:Europe/Prague
BEGIN:VEVENT
UID:164@ponava.cafe
DTSTART;TZID=Europe/Prague:20180804T190000
DTEND;TZID=Europe/Prague:20180804T190000
DTSTAMP:20180804T113650Z
URL:https://ponava.cafe/udalosti/folkovy-koncert-adela-vaclavovapetr-kurec
 ka-tereza-mareckova/
SUMMARY:Dobrodružství na Jarošce v Ponavě
DESCRIPTION:Všichni příznivci Festivalu UPROSTŘED. I na Ponavě se již
  nemůžeme dočkat\, jaké dobrodružství si letos na festivalu užijeme
 .\nTak přijďte se tuto sobotu 4. 8. 2018 podívat\, co jsme si pro vás 
 připravili.\n\nLine-up:\n\n16.00 Navratil Blue-Bros (strhující kytarov
 é blues duo)\n\n18.00 Adéla Václavová &amp\; Petr Kurečka &amp\; Tere
 za Marečková (brněnští písničkáři)\n\n20.00 Di Band (romský jazz
 -funk-soul)
ATTACH;FMTTYPE=image/jpeg:https://ponava.cafe/wp-content/uploads/2017/06/t
 apeta.jpg
CATEGORIES:Koncert
END:VEVENT
BEGIN:VTIMEZONE
TZID:Europe/Prague
X-LIC-LOCATION:Europe/Prague
BEGIN:DAYLIGHT
DTSTART:20180325T030000
TZOFFSETFROM:+0100
TZOFFSETTO:+0200
TZNAME:CEST
END:DAYLIGHT
END:VTIMEZONE
END:VCALENDAR