BEGIN:VCALENDAR
VERSION:2.0
PRODID:-//wp-events-plugin.com//7.2.3.1//EN
TZID:Europe/Prague
X-WR-TIMEZONE:Europe/Prague
BEGIN:VEVENT
UID:55@ponava.cafe
DTSTART;TZID=Europe/Prague:20180615T190000
DTEND;TZID=Europe/Prague:20180615T190000
DTSTAMP:20180521T182217Z
URL:https://ponava.cafe/udalosti/fanfan-tulipan-koncert/
SUMMARY:Fanfán Tulipán
DESCRIPTION:Originální uskupení Fanfán Tulipán umně propojuje neobvyk
 lé nástroje jako\nmelodiku Hammond\, estonskou citeru kannel\, xylofon n
 ebo hrací skříňku s klasickou\njazzovou instrumentací\, svěžími n
 ápady a hráčskou bravurou.\n\nJiž od svého vzniku roku 2009 kapela po
 utá pozornost odborné veřejnosti i širokého publika. Fanfán\nTulipá
 n získal Cenu Metropolitní Univerzity a vyhrál české kolo mezinárodn
 í soutěže\nJazz Prix. Na kontě mají debutové album Polyorama a čers
 tvě vydané EP Vulpea\nLunatică\, které poskytli na svém Bandcampu vol
 ně ke stažení.\n\nSoučasnou sestavu tvoří autorka skladeb a hráčka
  na melodiku Eliška Svobodová\, flétnista Štěpán\nZbytovský (Nočn
 í Optika)\, pianista Jan Mazura\, basista Pavel Husa (Bizarre Band) a\nbu
 beník Šimon Hajdovský (Sinuhet\, Manželé\, Akline).\n\n
ATTACH;FMTTYPE=image/jpeg:https://ponava.cafe/wp-content/uploads/2017/06/t
 apeta.jpg
CATEGORIES:Koncert
END:VEVENT
BEGIN:VTIMEZONE
TZID:Europe/Prague
X-LIC-LOCATION:Europe/Prague
BEGIN:DAYLIGHT
DTSTART:20180325T030000
TZOFFSETFROM:+0100
TZOFFSETTO:+0200
TZNAME:CEST
END:DAYLIGHT
END:VTIMEZONE
END:VCALENDAR