BEGIN:VCALENDAR
VERSION:2.0
PRODID:-//wp-events-plugin.com//7.2.3.1//EN
TZID:Europe/Prague
X-WR-TIMEZONE:Europe/Prague
BEGIN:VEVENT
UID:399@ponava.cafe
DTSTART;TZID=Europe/Prague:20200808T190000
DTEND;TZID=Europe/Prague:20200808T220000
DTSTAMP:20200724T075309Z
URL:https://ponava.cafe/udalosti/elel-nic-moc-kvintet/
SUMMARY:ElEl a NicMockvintet
DESCRIPTION:Ein ElEl und Traumer BuntesLeon - Majka z Gurunu\, cyp\, jeden 
 virtuálně mrtvý jedinec\, nový bubeník. Vokálně instrumentálně or
 ientovaný taneční kabaretíček.\n\nNicMockvintet - "Říkají nám\, 
 že jsme prasata\, nechutní psychopati\,\nodporné kreatury bez špetky c
 itu\, říkají nám…"\nČlenové kapely:\nHavran - kytara\, hlas\nLukin
  - kytara\, hlas\nZuzka - hlas\, perkuse\nJindra - ságo\nMara - basa\nTom
  - perkuse\, irská flétna\, foukačka\nDan - perkuse\n\nVstupné dobrovo
 lné
ATTACH;FMTTYPE=image/jpeg:https://ponava.cafe/wp-content/uploads/2017/06/t
 apeta.jpg
CATEGORIES:Koncert
END:VEVENT
BEGIN:VTIMEZONE
TZID:Europe/Prague
X-LIC-LOCATION:Europe/Prague
BEGIN:DAYLIGHT
DTSTART:20200329T030000
TZOFFSETFROM:+0100
TZOFFSETTO:+0200
TZNAME:CEST
END:DAYLIGHT
END:VTIMEZONE
END:VCALENDAR