BEGIN:VCALENDAR
VERSION:2.0
PRODID:-//wp-events-plugin.com//7.2.3.1//EN
TZID:Europe/Prague
X-WR-TIMEZONE:Europe/Prague
BEGIN:VEVENT
UID:314@ponava.cafe
DTSTART;TZID=Europe/Prague:20191016T190000
DTEND;TZID=Europe/Prague:20191016T190000
DTSTAMP:20190930T084327Z
URL:https://ponava.cafe/udalosti/e-converso-2/
SUMMARY:E Converso
DESCRIPTION:Michal Wróblewski - sax\, Vladimír Micenko - bass\, Jan Piskl
 ák - guitar\, Jan Chalupa - drums\nV kapele E Converso\, jež vznikla v r
 oce 2011\, spojili síly čtyři talentovaní hudebníci nastupující g
 enerace. Saxofonista Michal Wróblewski formaci charakterizuje jako žánr
 ově otevřenou a nevázaně improvizující. „Ve své hudbě pracuj
 eme s improvizací na všechny možné způsoby. Propojujeme vlivy newyor
 ské downtown scény a volné improvizace.“\nVstupné dobrovolné\, zá
 žitky k nezaplacení. :)\n\n&nbsp\;\n\n
ATTACH;FMTTYPE=image/jpeg:https://ponava.cafe/wp-content/uploads/2017/06/t
 apeta.jpg
CATEGORIES:Koncert
END:VEVENT
BEGIN:VTIMEZONE
TZID:Europe/Prague
X-LIC-LOCATION:Europe/Prague
BEGIN:DAYLIGHT
DTSTART:20190331T030000
TZOFFSETFROM:+0100
TZOFFSETTO:+0200
TZNAME:CEST
END:DAYLIGHT
END:VTIMEZONE
END:VCALENDAR