BEGIN:VCALENDAR
VERSION:2.0
PRODID:-//wp-events-plugin.com//7.2.3.1//EN
TZID:Europe/Prague
X-WR-TIMEZONE:Europe/Prague
BEGIN:VEVENT
UID:72@ponava.cafe
DTSTART;TZID=Europe/Prague:20180307T190000
DTEND;TZID=Europe/Prague:20180307T190000
DTSTAMP:20180205T081517Z
URL:https://ponava.cafe/udalosti/drnek-trio/
SUMMARY:Drnek/Šanda/Šelep trio
DESCRIPTION:&nbsp\;\n\nModerní akustická autorská hudba\, spojení netra
 dičních nástrojů\, které tvoří originální barevné plochy v kontr
 astu s energickými improvizacemi. Tři mladí hudebníci studující druh
 ý ročník brněnské JAMU čerpají inspiraci u soudobých jazzových ka
 pel\, ale i v hip-hopu\, avantgardní hudbě\, ambientních kompozicích a
  v klasické soudobé hudbně. Trio hraje\, navzdory všem posměšným na
 rážkám\, ve složení:\nAkordeon - Vojtěch Drnek\nTrombón - Richard 
 Šanda\nKontrabas - Michal Šelep\n\n\n\nhttps://soundcloud.com/vojta-drne
 k/night-in-budisov-nad-budisovkou/s-2AEPO\n\n&nbsp\;\n\nRichard Šanda je 
 pražský trombonista a skladatel. Pochází z Chrudimi\, odkud má také 
 své první zkušenosti s jazzovou hudbou\, a to v místních bigbandech. 
 Při svém studiu na Konzervatoři Jaroslava Ježka začal působit na pra
 žské jazzové scéně v kapelách jako jsou Rozhlasový Big Band Gustava
  Broma\, Concept Art Orchestra\, Big Band Konzervatoře Jaroslava Ježka a
  dalších. V lednu 2015 se podílel na nahrávání alba s Concept Art Or
 chestra\, které získalo cenu Českého Rozhlasu i cenu Anděl za nejlep
 ší jazzové album toho roku. V listopadu roku 2016 byl Českým rozhlase
 m nominován na leadera trombonové sekce v Euro Radio Jazz Orchestra\, kt
 erý vedl Tommy Smith ve Skotsku. Momentálně studuje na JAMU ve třídě
  Jana Jiruchy a spolupracuje s nejlepšími hudebníky české a slovensk
 é jazzové scény.\nwww.richardsanda.com\n\n&nbsp\;\n\nMichal Šelep je b
 ratislavský kontrabasista a baskytarista\, původem ze Spišské Bělé. 
 Na baskytaru začal hrát v 16 letech\, přes hip-hop se postupně dostal 
 k funku a jazzu. V roce 2011 začal studovat baskytaru a hudební teorii u
  Anthonyho Wellingtona\, světově proslulého pedagoga a baskytaristy v k
 apele Victora Wootena. V roce 2014 obdržel stipendium Fodera - Compito na
  Victor Wooten Bass/Nature Camp v Nashvillu\, kde studoval u Victora\, Ant
 honyho\, JD Blaira\, Futuremana\, Steva Baileyho\, Chucka Raineyho\, Danny
  Gottlieba a dalších. Po návratu na Slovensko začal studovat hudbu se 
 slovenským kytaristou Andrejem Šebanem. V současnosti studuje na JAMU p
 od vedením Jiřího Slavíka a spolupracuje s některými z nejlepších 
 slovenských hudebníků (Andrej Šeban\, Martin Valihora\, Marcel Buntaj\
 , Peter Lipa\, Zuzana Mikulcová a mnoho dalších).\nwww.michalselep.com\
 n\n&nbsp\;\n\nVojtěch Drnek je akordeonista a skladatel\, student druhéh
 o ročníku jazzové katedry JAMU pod vedením Jiřího Levíčka a Víta 
 Kříšťana. Pochází z Budišova nad Budišovkou. Má za sebou studium 
 na Janáčkově konzervatoři a Gymnáziu v Ostravě (2011-2016)\, kde pů
 sobil mimo jiné jako externista činoherní scény Národního divadla mo
 ravskoslezského\, doprovázel zpěvačku Hanu Fialovou\, spolupracoval s 
 osobnostmi tamnější jazzové scény a získal několik prvenství a um
 ístění na českých i slovenských akordeonových soutěžích. Nyní p
 ůsobí v několika jazzových projektech (např. Portraits in Jazz\, Komo
 rní jazzový orchestr Mariana Friedla\, The JazzCake) a je členem soubor
 u Ensemble Opera Diversa v představení Čaroděj a jeho sluha.\nwww.vdrn
 ek.wixsite.com/drnek
ATTACH;FMTTYPE=image/jpeg:https://ponava.cafe/wp-content/uploads/2017/06/t
 apeta.jpg
CATEGORIES:Koncert
END:VEVENT
BEGIN:VTIMEZONE
TZID:Europe/Prague
X-LIC-LOCATION:Europe/Prague
BEGIN:STANDARD
DTSTART:20171029T020000
TZOFFSETFROM:+0200
TZOFFSETTO:+0100
TZNAME:CET
END:STANDARD
END:VTIMEZONE
END:VCALENDAR