BEGIN:VCALENDAR
VERSION:2.0
PRODID:-//wp-events-plugin.com//7.2.3.1//EN
TZID:Europe/Prague
X-WR-TIMEZONE:Europe/Prague
BEGIN:VEVENT
UID:229@ponava.cafe
DTSTART;TZID=Europe/Prague:20190327T200000
DTEND;TZID=Europe/Prague:20190327T220000
DTSTAMP:20190130T155929Z
URL:https://ponava.cafe/udalosti/drnek-sanda-selep/
SUMMARY:Drnek/Šanda/Šelep
DESCRIPTION:Složení: Vojta Drnek/akordeon Richard Šanda/trombón Michal 
 Šelep/kontrabas\n\nDrnek/Šanda/Šelep trio mělo v Ponavě svou premiér
 u. Nyní se vrací na další turné s osvěženým repertoárem a kotlem 
 zkušeností ze zahraničních stáží v Amsterdamu a Linci. Moderní aku
 stická autorská hudba\, netradiční spojení nástrojů\, které tvoř
 í originální barevné plochy v kontrastu s energickými improvizacemi. 
 Tři mladí hudebníci\, kteří se dali dohromady při studiu jazzové ka
 tedry JAMU\, čerpají inspiraci u soudobých jazzových kapel\, ale i v a
 vantgardní hudbě\, ambientních kompozicích a v klasické soudobé hudb
 ě.\n\nVstupné dobrovolné\, zážitky k nezaplacení :)\n\n
ATTACH;FMTTYPE=image/jpeg:https://ponava.cafe/wp-content/uploads/2017/06/t
 apeta.jpg
CATEGORIES:Koncert
END:VEVENT
BEGIN:VTIMEZONE
TZID:Europe/Prague
X-LIC-LOCATION:Europe/Prague
BEGIN:STANDARD
DTSTART:20181028T020000
TZOFFSETFROM:+0200
TZOFFSETTO:+0100
TZNAME:CET
END:STANDARD
END:VTIMEZONE
END:VCALENDAR