BEGIN:VCALENDAR
VERSION:2.0
PRODID:-//wp-events-plugin.com//7.2.3.1//EN
TZID:Europe/Prague
X-WR-TIMEZONE:Europe/Prague
BEGIN:VEVENT
UID:945@ponava.cafe
DTSTART;TZID=Europe/Prague:20260515T190000
DTEND;TZID=Europe/Prague:20260515T220000
DTSTAMP:20260418T184150Z
URL:https://ponava.cafe/udalosti/django-jet-3/
SUMMARY:DJANGO JET
DESCRIPTION:Přijďte si užít teplý jarní večer se skvělou hudbou do 
 Lužánek\, a třeba si tu i zatančit! Django Jet je projekt\, který př
 ed 12 lety založila skupina brněnských milovníků swingu a swingového
  tance. Dnes se kapela hudebně zaměřuje na český a francouzský swing
  i jeho příbuzné hudební specialitky. Hlavní zpěvačka Marie Gilbert
  narozená v Belgii vás očaruje svým hlasem\, ať už v jejím podání
  vyslechnete Slunečnici nebo La vie en rose. Kromě zpívaných písní u
 slyšíte instrumentální gypsy swingové skladby francouzské kytarové 
 legendy Django Reinhardta i autorské kompozice kytaristy Luky Cojhtera.
ATTACH;FMTTYPE=image/jpeg:https://ponava.cafe/wp-content/uploads/2026/04/d
 jango-jet-cover-pic.jpg
END:VEVENT
BEGIN:VTIMEZONE
TZID:Europe/Prague
X-LIC-LOCATION:Europe/Prague
BEGIN:DAYLIGHT
DTSTART:20260329T030000
TZOFFSETFROM:+0100
TZOFFSETTO:+0200
TZNAME:CEST
END:DAYLIGHT
END:VTIMEZONE
END:VCALENDAR