BEGIN:VCALENDAR
VERSION:2.0
PRODID:-//wp-events-plugin.com//7.2.3.1//EN
TZID:Europe/Prague
X-WR-TIMEZONE:Europe/Prague
BEGIN:VEVENT
UID:163@ponava.cafe
DTSTART;TZID=Europe/Prague:20180810T190000
DTEND;TZID=Europe/Prague:20180810T190000
DTSTAMP:20180808T133953Z
URL:https://ponava.cafe/udalosti/dj-lucc-bizon/
SUMMARY:DJ Lucc Bizon
DESCRIPTION:K pátečnímu rozjímání se můžete na Ponavě naladit na v
 lnu DJ Lucc Bizona.\n\nhttps://www.mixcloud.com/Lucc_Bizon/
ATTACH;FMTTYPE=image/jpeg:https://ponava.cafe/wp-content/uploads/2017/06/t
 apeta.jpg
CATEGORIES:Koncert
END:VEVENT
BEGIN:VTIMEZONE
TZID:Europe/Prague
X-LIC-LOCATION:Europe/Prague
BEGIN:DAYLIGHT
DTSTART:20180325T030000
TZOFFSETFROM:+0100
TZOFFSETTO:+0200
TZNAME:CEST
END:DAYLIGHT
END:VTIMEZONE
END:VCALENDAR