BEGIN:VCALENDAR
VERSION:2.0
PRODID:-//wp-events-plugin.com//7.2.3.1//EN
TZID:Europe/Prague
X-WR-TIMEZONE:Europe/Prague
BEGIN:VEVENT
UID:306@ponava.cafe
DTSTART;TZID=Europe/Prague:20190913T190000
DTEND;TZID=Europe/Prague:20190913T190000
DTSTAMP:20190827T141851Z
URL:https://ponava.cafe/udalosti/der-senster-gob/
SUMMARY:Der Šenster Gob
DESCRIPTION:Der Šenster Gob je akustická kapela hrající romskou\, žido
 vskou a balkánskou hudbu a cestující při tom po světě v romantickém
  zeleném karavanu.\n\nwww.dersenstergob.eu\n\nVstupné dobrovolné\, zá
 žitky k nezaplacení. 🙂\n\n&nbsp\;\n\n
ATTACH;FMTTYPE=image/jpeg:https://ponava.cafe/wp-content/uploads/2017/06/t
 apeta.jpg
CATEGORIES:Koncert
END:VEVENT
BEGIN:VTIMEZONE
TZID:Europe/Prague
X-LIC-LOCATION:Europe/Prague
BEGIN:DAYLIGHT
DTSTART:20190331T030000
TZOFFSETFROM:+0100
TZOFFSETTO:+0200
TZNAME:CEST
END:DAYLIGHT
END:VTIMEZONE
END:VCALENDAR