BEGIN:VCALENDAR
VERSION:2.0
PRODID:-//wp-events-plugin.com//7.2.3.1//EN
TZID:Europe/Prague
X-WR-TIMEZONE:Europe/Prague
BEGIN:VEVENT
UID:104@ponava.cafe
DTSTART;TZID=Europe/Prague:20180320T190000
DTEND;TZID=Europe/Prague:20180320T190000
DTSTAMP:20180316T095109Z
URL:https://ponava.cafe/udalosti/denisa-stefanigova-sebou-se-chlacholim/
SUMMARY:Denisa Štefanigová - Sebou se chlácholím
DESCRIPTION:Vernisáž výstavy maleb Denisy Štefanigové.\n\nVýběr obra
 zů dvaadvacetileté malířky projevující se vášnivě především v 
 portrétech s prvky fauvismu\, surrealismu a figurálního expresionismu.\
 n\nDenisa Štefanigová *1995\nStudium 2015 - dosud FaVU VUT\, Ateliér Ma
 lířství III Petra Kvíčaly\nStáž 2017 - Facultad de Bellas Artes de 
 la Universidad del País Vasco (Baskicko)\n\nhttp://am3.ffa.vutbr.cz/stefa
 nigovadenisa.html\nhttp://www.galerieokno.cz/denisa-stefanigova\n\nVýstav
 a potrvá do 23. dubna 2018.\n\nHudba: Nelkafofelka DJ set (součást dvoj
 ice Lowmoe https://soundcloud.com/lowmoe)\nKurátor: Jan Karpíšek\n\n
ATTACH;FMTTYPE=image/jpeg:https://ponava.cafe/wp-content/uploads/2017/06/t
 apeta.jpg
CATEGORIES:Výstava
END:VEVENT
BEGIN:VTIMEZONE
TZID:Europe/Prague
X-LIC-LOCATION:Europe/Prague
BEGIN:STANDARD
DTSTART:20171029T020000
TZOFFSETFROM:+0200
TZOFFSETTO:+0100
TZNAME:CET
END:STANDARD
END:VTIMEZONE
END:VCALENDAR