BEGIN:VCALENDAR
VERSION:2.0
PRODID:-//wp-events-plugin.com//7.2.3.1//EN
TZID:Europe/Prague
X-WR-TIMEZONE:Europe/Prague
BEGIN:VEVENT
UID:71@ponava.cafe
DTSTART;TZID=Europe/Prague:20171111T170000
DTEND;TZID=Europe/Prague:20171111T170000
DTSTAMP:20171107T202420Z
URL:https://ponava.cafe/udalosti/degustace-nejen-svatomartinskych-vin/
SUMMARY:Degustace (nejen) svatomartinských vín
DESCRIPTION:Svatý Martin v Ponavě ... po Svatomartinské huse následuje 
 v 17 h degustace (nejen) svatomartinských vín vinařství Čmelík z Kyj
 ova a k tomu od 19h vystoupení folklórního souboru Trnůvka z Jinačovi
 c.
ATTACH;FMTTYPE=image/jpeg:https://ponava.cafe/wp-content/uploads/2017/06/t
 apeta.jpg
CATEGORIES:Degustace
END:VEVENT
BEGIN:VTIMEZONE
TZID:Europe/Prague
X-LIC-LOCATION:Europe/Prague
BEGIN:STANDARD
DTSTART:20171029T020000
TZOFFSETFROM:+0200
TZOFFSETTO:+0100
TZNAME:CET
END:STANDARD
END:VTIMEZONE
END:VCALENDAR