BEGIN:VCALENDAR
VERSION:2.0
PRODID:-//wp-events-plugin.com//7.2.3.1//EN
TZID:Europe/Prague
X-WR-TIMEZONE:Europe/Prague
BEGIN:VEVENT
UID:128@ponava.cafe
DTSTART;TZID=Europe/Prague:20180522T190000
DTEND;TZID=Europe/Prague:20180522T190000
DTSTAMP:20180507T062725Z
URL:https://ponava.cafe/udalosti/daniel-forro/
SUMMARY:Daniel Forró
DESCRIPTION:MgA. Daniel Forró\, Ph.D. - renesanční osobnost mnoha zájm
 ů\, multižánrový skladatel\, aranžér\, multi-\ninstrumentalista\, st
 udiový a koncertní umělec\, improvizátor\, sound designer\, pedagog\, 
 muzikolog\,\n\npublicista a polyglot. Hudbu studoval od 8 let na jihlavsk
 é Lidové škole umění (dnes ZUŠ)\, absolvent\nbrněnské konzervatoř
 e a JAMU. V Brně strávil 30 let\, od roku 2003 žije v Japonsku. Kromě 
 kompoziční\,\naranžérské\, studiové a koncertní činnosti vyučuje 
 hudbu a několik cizích jazyků\, působí jako překladatel\,\nporotce h
 udebních soutěží a propagátor evropské a české kultury a hudby. Je
  členem hudební poradní\nkomise na radnici města Kakamigahara\, kde ž
 ije.\n\n
ATTACH;FMTTYPE=image/jpeg:https://ponava.cafe/wp-content/uploads/2017/06/t
 apeta.jpg
CATEGORIES:Koncert
END:VEVENT
BEGIN:VTIMEZONE
TZID:Europe/Prague
X-LIC-LOCATION:Europe/Prague
BEGIN:DAYLIGHT
DTSTART:20180325T030000
TZOFFSETFROM:+0100
TZOFFSETTO:+0200
TZNAME:CEST
END:DAYLIGHT
END:VTIMEZONE
END:VCALENDAR