BEGIN:VCALENDAR
VERSION:2.0
PRODID:-//wp-events-plugin.com//7.2.3.1//EN
TZID:Europe/Prague
X-WR-TIMEZONE:Europe/Prague
BEGIN:VEVENT
UID:944@ponava.cafe
DTSTART;TZID=Europe/Prague:20260513T193000
DTEND;TZID=Europe/Prague:20260513T220000
DTSTAMP:20260418T183412Z
URL:https://ponava.cafe/udalosti/cm-siruch/
SUMMARY:CM ŠIRŮCH
DESCRIPTION:Cimbálová muzika začala neformálně vznikat v roce 2017 jak
 o doprovodná muzika dívčí taneční složky Motovidlo pod vedením Voj
 těcha Půčka. Primární interpretační zaměření kapely vychází z 
 jejich kořenů v oblasti Kyjovského Dolňácka\, ale nebrání se takté
 ž zpracování ostatních regionů i populárních melodií.
ATTACH;FMTTYPE=image/jpeg:https://ponava.cafe/wp-content/uploads/2026/04/c
 m-siruch.jpg
END:VEVENT
BEGIN:VTIMEZONE
TZID:Europe/Prague
X-LIC-LOCATION:Europe/Prague
BEGIN:DAYLIGHT
DTSTART:20260329T030000
TZOFFSETFROM:+0100
TZOFFSETTO:+0200
TZNAME:CEST
END:DAYLIGHT
END:VTIMEZONE
END:VCALENDAR