BEGIN:VCALENDAR
VERSION:2.0
PRODID:-//wp-events-plugin.com//7.2.3.1//EN
TZID:Europe/Prague
X-WR-TIMEZONE:Europe/Prague
BEGIN:VEVENT
UID:922@ponava.cafe
DTSTART;TZID=Europe/Prague:20260218T190000
DTEND;TZID=Europe/Prague:20260218T230000
DTSTAMP:20260202T214416Z
URL:https://ponava.cafe/udalosti/cm-kyjovsko/
SUMMARY:CM KYJOVSKO
DESCRIPTION:Muzikanti se především zaměřují na autentické podání p
 ísní ze Slovácka\, kde se narodili a kde žijí. Jejich repertoár je v
 šak mnohem bohatší\, zahrnuje folklórní písně i z dalších oblast
 í Moravy\, Čech\, Slovenska\, Maďarska. Jelikož jsou všichni profesio
 nální hudebníci\, zaměřují se také na další hudební styly\, nap
 ř. klasiku\, jazzové standardy\, evergreeny.
ATTACH;FMTTYPE=image/jpeg:https://ponava.cafe/wp-content/uploads/2026/01/c
 m-myjovsko.jpg
END:VEVENT
BEGIN:VTIMEZONE
TZID:Europe/Prague
X-LIC-LOCATION:Europe/Prague
BEGIN:STANDARD
DTSTART:20251026T020000
TZOFFSETFROM:+0200
TZOFFSETTO:+0100
TZNAME:CET
END:STANDARD
END:VTIMEZONE
END:VCALENDAR