BEGIN:VCALENDAR
VERSION:2.0
PRODID:-//wp-events-plugin.com//7.2.3.1//EN
TZID:Europe/Prague
X-WR-TIMEZONE:Europe/Prague
BEGIN:VEVENT
UID:312@ponava.cafe
DTSTART;TZID=Europe/Prague:20191008T190000
DTEND;TZID=Europe/Prague:20191008T190000
DTSTAMP:20190924T170420Z
URL:https://ponava.cafe/udalosti/christof-kurzmann-ken-vandermark-duo-at-u
 sa/
SUMMARY:Christof Kurzmann / Ken Vandermark Duo (AT/USA)
DESCRIPTION:Ken Vandermark – tenorsaxofon\, klarinet\nChristof Kurzmann 
 – laptop\, elektronika\n\nInterpretace poezie Joea McPheea\, Kurzmannovo
  zpracování zcela improvizované hudby v reálném čase pomocí softwar
 u ppooll a Vandermarkův přístup k rozšířeným technikám jeho nástr
 ojů. Nepochybně se jedná o neuvěřitelně inovativní\, progresivní s
 oubor\, který je ochoten zkoumat text a zvuk z minulosti\, pomocí prost
 ředků 21. století.\n\nVstupné dobrovolné\, zážitky k nezaplacení. 
 🙂\n\n&nbsp\;\n\n
ATTACH;FMTTYPE=image/jpeg:https://ponava.cafe/wp-content/uploads/2017/06/t
 apeta.jpg
CATEGORIES:Koncert
END:VEVENT
BEGIN:VTIMEZONE
TZID:Europe/Prague
X-LIC-LOCATION:Europe/Prague
BEGIN:DAYLIGHT
DTSTART:20190331T030000
TZOFFSETFROM:+0100
TZOFFSETTO:+0200
TZNAME:CEST
END:DAYLIGHT
END:VTIMEZONE
END:VCALENDAR