BEGIN:VCALENDAR
VERSION:2.0
PRODID:-//wp-events-plugin.com//7.2.3.1//EN
TZID:Europe/Prague
X-WR-TIMEZONE:Europe/Prague
BEGIN:VEVENT
UID:267@ponava.cafe
DTSTART;TZID=Europe/Prague:20190626T190000
DTEND;TZID=Europe/Prague:20190626T190000
DTSTAMP:20190528T132111Z
URL:https://ponava.cafe/udalosti/che-radim-babak/
SUMMARY:[che]
DESCRIPTION:Poslední červnovou středu zahraje kapela [che] v složení:\
 n\nRadim Babák/akordeon\, zpěv\nTomáš Vtípil/housle\, zpěv\n\na jeji
 ch hudební hosté:\n\nJara Záděra/flašinet\, zpěv\nTomáš Urban/taha
 cí harmonika\, zpěv\n\nSkupina [che] (vyslovuje se zásadně tak\, jak s
 e píše!) vznikla v roce 2000 jako volné sdružení houslisty Tomáše V
 típila a harmonikáře Radima Babáka. Od počátku se věnuje tvorbě au
 torských písní s poněkud bizarním stylovým zařazením: akustický h
 arcore chanson. jde tedy o písně s místy dost syrovým výrazem\, jeho
 ž je dosahováno velmi komorními prostředky\, nejčastěji pouze zákla
 dní kombinací nástrojů – akordeon a housle. [che] se však inspiruje
  dosti širokou škálou zdrojů\, od aleatoriky a minimalismu po hospodsk
 ou odrhovačku. Důležitým prvkem jsou Babákovy výrazné texty\, vykaz
 ující podobný formální rozptyl – od primitivní rýmovačky po prep
 arovaný text. Kapela vydala tři CD Hody hodu\, Vykládání a vynášen
 í věcí a Rub a to.\n\nhttps://kapelache.bandcamp.com/\n\n\n\n.    
                                      
                                    Vstup
 né dobrovolné\, zážitky k nezaplacení. :)
ATTACH;FMTTYPE=image/jpeg:https://ponava.cafe/wp-content/uploads/2017/06/t
 apeta.jpg
CATEGORIES:Koncert
END:VEVENT
BEGIN:VTIMEZONE
TZID:Europe/Prague
X-LIC-LOCATION:Europe/Prague
BEGIN:DAYLIGHT
DTSTART:20190331T030000
TZOFFSETFROM:+0100
TZOFFSETTO:+0200
TZNAME:CEST
END:DAYLIGHT
END:VTIMEZONE
END:VCALENDAR