BEGIN:VCALENDAR
VERSION:2.0
PRODID:-//wp-events-plugin.com//7.2.3.1//EN
TZID:Europe/Prague
X-WR-TIMEZONE:Europe/Prague
BEGIN:VEVENT
UID:111@ponava.cafe
DTSTART;TZID=Europe/Prague:20180328T190000
DTEND;TZID=Europe/Prague:20180328T190000
DTSTAMP:20180308T151052Z
URL:https://ponava.cafe/udalosti/che-akusticky-hardcore-chanson/
SUMMARY:[che] a Tomáš Hrubiš
DESCRIPTION:Skupina [che] (vyslovuje se zásadně tak\, jak se píše!)\n\n
 vznikla v roce 2000 jako volné sdružení houslisty Tomáše Vtípila a h
 armonikáře Radima Babáka. Od počátku se věnuje tvorbě autorských p
 ísní s poněkud bizarním stylovým zařazením: akustický harcore chan
 son. jde tedy o písně s místy dost syrovým výrazem\, jehož je dosaho
 váno velmi komorními prostředky\, nejčastěji pouze základní kombina
 cí nástrojů – akordeon a housle. [che] se však inspiruje dosti širo
 kou škálou zdrojů\, od aleatoriky a minimalismu po hospodskou odrhovač
 ku. důležitým prvkem jsou babákovy výrazné texty\, vykazující podo
 bný formální rozptyl – od primitivní rýmovačky po preparovaný tex
 t.\n\nTomáš Hrubiš:\n- mezi impresí\, expresí a minimalismem\nJeho hu
 dba má proměnlivou dynamiku i výraz a vychází především z "tělesn
 ých" možností piana. Často využívá i repetic a specifického zvuku 
 preparovaného klavíru.\n\n
ATTACH;FMTTYPE=image/jpeg:https://ponava.cafe/wp-content/uploads/2017/06/t
 apeta.jpg
CATEGORIES:Koncert
END:VEVENT
BEGIN:VTIMEZONE
TZID:Europe/Prague
X-LIC-LOCATION:Europe/Prague
BEGIN:DAYLIGHT
DTSTART:20180325T030000
TZOFFSETFROM:+0100
TZOFFSETTO:+0200
TZNAME:CEST
END:DAYLIGHT
END:VTIMEZONE
END:VCALENDAR