BEGIN:VCALENDAR
VERSION:2.0
PRODID:-//wp-events-plugin.com//7.2.3.1//EN
TZID:Europe/Prague
X-WR-TIMEZONE:Europe/Prague
BEGIN:VEVENT
UID:675@ponava.cafe
DTSTART;TZID=Europe/Prague:20230630T200000
DTEND;TZID=Europe/Prague:20230630T220000
DTSTAMP:20230627T092608Z
URL:https://ponava.cafe/udalosti/budoar-stare-damy/
SUMMARY:Budoár staré dámy
DESCRIPTION:Budoár staré dámy\, znepokojivé písničky\, kterým může
 te věřit! Styl kapely je snadno rozpoznatelný díky energickému dívč
 ímu zpěvu\, nakažlivým melodiím\, poetickým textům a neobvyklému o
 hýbání českých slov.\nBrněnská kapela v Brně! S novým osvěžují
 cím klipem Climate lament\, který promítne i naživo. https://www.yout
 ube.com/watch?v=9pORxos1nQ0.\nKapela se chystá na podzim oslavit 25 let! 
 A nahrála soundtrack. Více čtěte zde:\nhttp://www.budoar.cz/ a nebo r
 aději přijďte!\n&nbsp\;\n\nDoporučené vstupné 200Kč
ATTACH;FMTTYPE=image/jpeg:https://ponava.cafe/wp-content/uploads/2023/05/d
 etail.jpg
CATEGORIES:Koncert
END:VEVENT
BEGIN:VTIMEZONE
TZID:Europe/Prague
X-LIC-LOCATION:Europe/Prague
BEGIN:DAYLIGHT
DTSTART:20230326T030000
TZOFFSETFROM:+0100
TZOFFSETTO:+0200
TZNAME:CEST
END:DAYLIGHT
END:VTIMEZONE
END:VCALENDAR