BEGIN:VCALENDAR
VERSION:2.0
PRODID:-//wp-events-plugin.com//7.2.3.1//EN
TZID:Europe/Prague
X-WR-TIMEZONE:Europe/Prague
BEGIN:VEVENT
UID:243@ponava.cafe
DTSTART;TZID=Europe/Prague:20190428T180000
DTEND;TZID=Europe/Prague:20190428T180000
DTSTAMP:20190415T194239Z
URL:https://ponava.cafe/udalosti/beseda-s-jurajom-barbaricom/
SUMMARY:Beseda s Jurajom Barbaričom
DESCRIPTION:Téměř každá nemoc začíná "v hlavě"\n\nPhDr. Juraj Barb
 arič – komunikační psycholog a psychoterapeut:\n\n"Obory psychologick
 o-psychiatrické zásadně ovlivňují lidské životy. A mají velkou pot
 íž. Tedy\, lidé mají potíž\, aniž by o tom věděli. Ta potíž je 
 v tom\, že to\, co je dnes ještě pořád mainstreamovým psychologicko-
 psychiatrickým myšlením je\, metaforicky řečeno\, na úrovni středov
 ěku. Objevuje se zde velké množství mýtů\, předsudků a chybných m
 yšlenkových východisek\, které často velmi škodí\, ať už se to t
 ýká psychologického myšlení laika nebo psycho-profesionála. A umí 
 škodit ve všech životních oblastech!\n\nDalší velkou potíží je\, 
 že tyhle předsudky a omyly se pořád vyučují. Je to něco podobného\
 , jako kdybyste v astrofyzice učili\, že Země je středem sluneční so
 ustavy\, a navíc je placatá. Cílem besedy je pokusit se Vám ukázat as
 poň některé z omylů a vysvětlit\, jak na tato témata nahlíží psyc
 hologie\, případně psychiatrie která je na aktuálním stavu poznání
 . I když zatím\, žel\, pořád ve stínu „středověkého“ mainstre
 amu."\n\nPokud by se chtěl někdo dozvědět o Juraji Barbaričovi ješt
 ě před plánovaným setkáním něco víc\, můžete zde: http://www.jb-
 terapeut.cz/\nanebo zde: https://www.facebook.com/pg/OZivoteAPsychoOborech
 /about/?ref=page_internal\n\nTěšíme se!\n\nVstupné dobrovolné\, záž
 itky k nezaplacení:)
ATTACH;FMTTYPE=image/jpeg:https://ponava.cafe/wp-content/uploads/2017/06/t
 apeta.jpg
CATEGORIES:Přednáška
END:VEVENT
BEGIN:VTIMEZONE
TZID:Europe/Prague
X-LIC-LOCATION:Europe/Prague
BEGIN:DAYLIGHT
DTSTART:20190331T030000
TZOFFSETFROM:+0100
TZOFFSETTO:+0200
TZNAME:CEST
END:DAYLIGHT
END:VTIMEZONE
END:VCALENDAR