BEGIN:VCALENDAR
VERSION:2.0
PRODID:-//wp-events-plugin.com//7.2.3.1//EN
TZID:Europe/Prague
X-WR-TIMEZONE:Europe/Prague
BEGIN:VEVENT
UID:73@ponava.cafe
DTSTART;TZID=Europe/Prague:20180228T190000
DTEND;TZID=Europe/Prague:20180228T190000
DTSTAMP:20180205T081421Z
URL:https://ponava.cafe/udalosti/benesselepsikora-2/
SUMMARY:The ABS
DESCRIPTION:The ABS\nKe zrodu kapely The ABS došlo na půdě jazzové kate
 dry brněnské JAMU\, a to 11. 11. 2016 v 9:30\, kdy poprvé veřejně vys
 toupila v rámci interpretačního semináře.\n\nVít Beneš - kytara\nSt
 udent ve třídě Viléma Spilky a Davida Dorůžky. Působí v kapelách 
 Ondřej Zámečník Quintet\, The Dudes of Ellington\, Boundary Jazz quint
 et a dalších. Víťa nikde jinde nebyl\, ale moc rád by jel na Erasmus.
 \nMichal Šelep - kontrabas\nStudent jazzového kontrabasu pod vedením Ji
 řího Slavíka. V letech 2012 a 2014 studoval v USA pod vedením Anthony 
 Wellingtona. Vystupuje po boku Andreje Šebana\, Petera Lipy ad. Česká p
 olitická scéna ho vůbec nezajímá.\nAdam Sikora - bicí\nStuduje jazzo
 vou interpretaci ve třídě Kamila Slezáka. Je členem kapely Jan Kavka 
 Trio\, Heda Quartet\, Ondřej Zámečník Quintet\, The Dudes of Ellington
  aj. Absolvoval roční stáž na Akademii Muzycznej w Krakowie u Łukasze
  Żyty. Je to bubeník.
ATTACH;FMTTYPE=image/jpeg:https://ponava.cafe/wp-content/uploads/2017/06/t
 apeta.jpg
CATEGORIES:Koncert
END:VEVENT
BEGIN:VTIMEZONE
TZID:Europe/Prague
X-LIC-LOCATION:Europe/Prague
BEGIN:STANDARD
DTSTART:20171029T020000
TZOFFSETFROM:+0200
TZOFFSETTO:+0100
TZNAME:CET
END:STANDARD
END:VTIMEZONE
END:VCALENDAR