BEGIN:VCALENDAR
VERSION:2.0
PRODID:-//wp-events-plugin.com//7.2.3.1//EN
TZID:Europe/Prague
X-WR-TIMEZONE:Europe/Prague
BEGIN:VEVENT
UID:122@ponava.cafe
DTSTART;TZID=Europe/Prague;VALUE=DATE:20180523
DTEND;TZID=Europe/Prague;VALUE=DATE:20180528
DTSTAMP:20180423T144242Z
URL:https://ponava.cafe/udalosti/balkan-film-fest-2/
SUMMARY:Balkan film fest
DESCRIPTION:Více na: www.balkanfilmfest.cz
ATTACH;FMTTYPE=image/jpeg:https://ponava.cafe/wp-content/uploads/2017/06/t
 apeta.jpg
CATEGORIES:Promítání
END:VEVENT
BEGIN:VTIMEZONE
TZID:Europe/Prague
X-LIC-LOCATION:Europe/Prague
BEGIN:DAYLIGHT
DTSTART:20180325T030000
TZOFFSETFROM:+0100
TZOFFSETTO:+0200
TZNAME:CEST
END:DAYLIGHT
END:VTIMEZONE
END:VCALENDAR