BEGIN:VCALENDAR
VERSION:2.0
PRODID:-//wp-events-plugin.com//7.2.3.1//EN
TZID:Europe/Prague
X-WR-TIMEZONE:Europe/Prague
BEGIN:VEVENT
UID:241@ponava.cafe
DTSTART;TZID=Europe/Prague:20190424T200000
DTEND;TZID=Europe/Prague:20190424T200000
DTSTAMP:20190307T120513Z
URL:https://ponava.cafe/udalosti/balet-ceskoslovenskeho-rozhlasu/
SUMMARY:Balet Československého rozhlasu
DESCRIPTION:Balet ČRo je transevropské sdružení anonymních Umělců s 
 velkým U ve složení\n\nhlas.................................?     
                                      
                                      
                                      
                                      
                                      
                                      
                                      
                     kytara.............................
 ??                                       
                                      
                                      
                                      
                                      
                              basa.............
 ..................???                          
                                      
                                      
                                      
                                      
                                      
                                      
                                   bicí..
 .............................????                    
                                      
                                      
                                      
                                      
                                      
                                      
                               housle.........
 ................?????\n\nJejich vystoupení mohou zanechat dojem i na něk
 olik desítek let a mohou obsahovat stopové prvky opravdového umění. S
 měřujou mílovými kroky na vrchol středního proudu\, ale jejich cesta
  vede zkratkami - je to sice dál\, ale zato horší cestou. Spolupracujou
  s filmovou korporací Hollywood Papaya Production a využívají její pr
 ojekce. Na bookletu jejich CD se zjevuje mesiášův pupek. Je téměř ji
 sté\, že žádná chvála jejich působení nemůže být dostatečná. 
 Vystoupení tohoto souboru budou vždy premierou i dernierou daného progr
 amu. Žádná odehraná věc se nebude nikdy opakovat\, a pokud má kdokol
 iv zájem slyšet tento skvost na živo bude muset využít vždy jedinéh
 o pokusu tzv. poslech na první dobrou.\n\n\n\n&nbsp\;\n\n.          
                                                  
                          Vstupné dobrovolné\, zážitky 
 k nezaplacení :)
ATTACH;FMTTYPE=image/jpeg:https://ponava.cafe/wp-content/uploads/2017/06/t
 apeta.jpg
CATEGORIES:Koncert
END:VEVENT
BEGIN:VTIMEZONE
TZID:Europe/Prague
X-LIC-LOCATION:Europe/Prague
BEGIN:DAYLIGHT
DTSTART:20190331T030000
TZOFFSETFROM:+0100
TZOFFSETTO:+0200
TZNAME:CEST
END:DAYLIGHT
END:VTIMEZONE
END:VCALENDAR