BEGIN:VCALENDAR
VERSION:2.0
PRODID:-//wp-events-plugin.com//7.2.3.1//EN
TZID:Europe/Prague
X-WR-TIMEZONE:Europe/Prague
BEGIN:VEVENT
UID:264@ponava.cafe
DTSTART;TZID=Europe/Prague:20190613T190000
DTEND;TZID=Europe/Prague:20190613T190000
DTSTAMP:20190610T091248Z
URL:https://ponava.cafe/udalosti/backsight/
SUMMARY:Backsight
DESCRIPTION:Česká akustická bluesová kapela BACKSiGHT působí na scén
 ě od roku 2004 a v Ponavě zahraje v složení:\n\nOtakar Šamánek - aku
 stická kytara\, elektrická kytara\, hlavní zpěv\nJiří Gruber - akust
 ická kytara\, elektrická kytara\, bicí nástroje\nMartin crysman Zahrad
 ník - foukací harmonika\, zpěv\, bicí nástroje\nJakub Fiala - baskyta
 ra\n\nV jejím repertoáru se objevují různá žánrová zaměření př
 evážně bluesového charakteru\, například staré bluesové skladby do
 provázené harmonikou jako „Young Boy“\, ale i „poppy“ písničky
  jako „For Her“\, nebo dokonce swing / folk / soul styl jako v „Fool
  That Way“\, kde uslyšíte více bubnů a kontrabas. Můžete si také 
 vychutnat kytarové riffy jako v písni "Kalifornia". Specifický styl BAC
 KSiGHT je založený na dvou akustických kytarách se silným mužským v
 okálním doprovodem doplněným dalšími vokály\, harmonikou\, kontraba
 sem a bicími. Dříve hráli spoustu coverů\, postupně přešli k přev
 ážně vlastním originálním písním.\n\nhttps://backsight.cz/\n\n\n\n
 .                                                 
                           Vstupné dobrovolné\, zážitky k 
 nezaplacení. :)
ATTACH;FMTTYPE=image/jpeg:https://ponava.cafe/wp-content/uploads/2017/06/t
 apeta.jpg
CATEGORIES:Koncert
END:VEVENT
BEGIN:VTIMEZONE
TZID:Europe/Prague
X-LIC-LOCATION:Europe/Prague
BEGIN:DAYLIGHT
DTSTART:20190331T030000
TZOFFSETFROM:+0100
TZOFFSETTO:+0200
TZNAME:CEST
END:DAYLIGHT
END:VTIMEZONE
END:VCALENDAR